BEGIN:VCALENDAR
PRODID:brasil.gov.agenda
VERSION:1.0
BEGIN:VEVENT
DTSTART:20131015T121000Z
DTEND:20131015T121000Z
DCREATED:20131025T150650Z
UID:Compromisso-c160f8993193477b820b024d72a4021b
SEQUENCE:0
LAST-MODIFIED:20170328T204508Z
SUMMARY:Chegada a Vitória da Conquista
LOCATION:Aeroporto de Vitória da Conquista
PRIORITY:3
TRANSP:0
END:VEVENT
END:VCALENDAR
