BEGIN:VCALENDAR
PRODID:brasil.gov.agenda
VERSION:1.0
BEGIN:VEVENT
DTSTART:20131015T173000Z
DTEND:20131015T173000Z
DCREATED:20131025T151034Z
UID:Compromisso-63b3687f345446ee973e58f48bc5c634
SEQUENCE:0
LAST-MODIFIED:20170328T204509Z
SUMMARY:Partida para Brasília
LOCATION:Base Aérea de Salvador
PRIORITY:3
TRANSP:0
END:VEVENT
END:VCALENDAR
