BEGIN:VCALENDAR
PRODID:brasil.gov.agenda
VERSION:1.0
BEGIN:VEVENT
DTSTART:20131015T143000Z
DTEND:20131015T143000Z
DCREATED:20131025T150840Z
UID:Compromisso-bc3e63d404c849fbac711b1a39995903
SEQUENCE:0
LAST-MODIFIED:20170328T204509Z
SUMMARY:Partida para Salvador
LOCATION:Aeroporto de Vitória da Conquista
PRIORITY:3
TRANSP:0
END:VEVENT
END:VCALENDAR
