BEGIN:VCALENDAR
PRODID:brasil.gov.agenda
VERSION:1.0
BEGIN:VEVENT
DTSTART:20131015T110000Z
DTEND:20131015T110000Z
DCREATED:20131025T150623Z
UID:Compromisso-80351d2046b3446c9085589dc066a841
SEQUENCE:0
LAST-MODIFIED:20170328T204508Z
SUMMARY:Partida para Vitória da Conquista/BA
LOCATION:Base Aérea de Brasília
PRIORITY:3
TRANSP:0
END:VEVENT
END:VCALENDAR
