BEGIN:VCALENDAR
PRODID:brasil.gov.agenda
VERSION:1.0
BEGIN:VEVENT
DTSTART:20131015T190000Z
DTEND:20131015T190000Z
DCREATED:20131025T151152Z
UID:Compromisso-30cae66b0f604a15a80bcad5df590772
SEQUENCE:0
LAST-MODIFIED:20170328T204509Z
SUMMARY:Gilberto Carvalho
LOCATION:Palácio do Planalto
PRIORITY:3
TRANSP:0
END:VEVENT
END:VCALENDAR
