BEGIN:VCALENDAR
PRODID:brasil.gov.agenda
VERSION:1.0
BEGIN:VEVENT
DTSTART:20131018T140000Z
DTEND:20131018T140000Z
DCREATED:20131025T151941Z
UID:Compromisso-7d4819da518742f995ff1674f56132c5
SEQUENCE:0
LAST-MODIFIED:20170328T204511Z
SUMMARY:Guilherme Afif Domingos
PRIORITY:3
TRANSP:0
END:VEVENT
END:VCALENDAR
