BEGIN:VCALENDAR
PRODID:brasil.gov.agenda
VERSION:1.0
BEGIN:VEVENT
DTSTART:20131018T180000Z
DTEND:20131018T180000Z
DCREATED:20131025T152006Z
UID:Compromisso-daca754623174101bab646523d730381
SEQUENCE:0
LAST-MODIFIED:20170328T204511Z
SUMMARY:Luiz Alberto Figueiredo
PRIORITY:3
TRANSP:0
END:VEVENT
END:VCALENDAR
