BEGIN:VCALENDAR
PRODID:brasil.gov.agenda
VERSION:1.0
BEGIN:VEVENT
DTSTART:20131018T130000Z
DTEND:20131018T130000Z
DCREATED:20131025T151911Z
UID:Compromisso-16d355c3a38447aa8da2c722ead09158
SEQUENCE:0
LAST-MODIFIED:20170328T204510Z
SUMMARY:Marta Suplicy
LOCATION:Palácio do Planalto
PRIORITY:3
TRANSP:0
END:VEVENT
END:VCALENDAR
