BEGIN:VCALENDAR
PRODID:brasil.gov.agenda
VERSION:1.0
BEGIN:VEVENT
DTSTART:20131021T120000Z
DTEND:20131021T120000Z
DCREATED:20131025T152154Z
UID:Compromisso-997ff67d6fa24c26a23bb6c21c88f69c
SEQUENCE:0
LAST-MODIFIED:20170328T204511Z
SUMMARY:Celso Amorim
PRIORITY:3
TRANSP:0
END:VEVENT
END:VCALENDAR
