BEGIN:VCALENDAR
PRODID:brasil.gov.agenda
VERSION:1.0
BEGIN:VEVENT
DTSTART:20131021T130000Z
DTEND:20131021T130000Z
DCREATED:20131025T152220Z
UID:Compromisso-795691d8727b4cc389323883dde6e221
SEQUENCE:0
LAST-MODIFIED:20170328T204511Z
SUMMARY:Paulo Gustavo
PRIORITY:3
TRANSP:0
END:VEVENT
END:VCALENDAR
