BEGIN:VCALENDAR
PRODID:brasil.gov.agenda
VERSION:1.0
BEGIN:VEVENT
DTSTART:20131021T190000Z
DTEND:20131021T190000Z
DCREATED:20131025T152245Z
UID:Compromisso-543bb16a8f2a48f7b10e301a6f3cca92
SEQUENCE:0
LAST-MODIFIED:20170328T204511Z
SUMMARY:Gleisi Hoffmann
PRIORITY:3
TRANSP:0
END:VEVENT
END:VCALENDAR
