BEGIN:VCALENDAR
PRODID:brasil.gov.agenda
VERSION:1.0
BEGIN:VEVENT
DTSTART:20131021T110000Z
DTEND:20131021T110000Z
DCREATED:20131025T152129Z
UID:Compromisso-65c598a8d5dd4883b7adb183020edf73
SEQUENCE:0
LAST-MODIFIED:20170328T204511Z
SUMMARY:Aloizio Mercadante
LOCATION:Palácio do Planalto
PRIORITY:3
TRANSP:0
END:VEVENT
END:VCALENDAR
