BEGIN:VCALENDAR
PRODID:brasil.gov.agenda
VERSION:1.0
BEGIN:VEVENT
DTSTART:20131022T190000Z
DTEND:20131022T190000Z
DCREATED:20131025T163006Z
UID:Compromisso-96b2a22497e74af080850ca70956a4b6
SEQUENCE:0
LAST-MODIFIED:20170328T204512Z
SUMMARY:Guido Mantega
LOCATION:Palácio da Alvorada
PRIORITY:3
TRANSP:0
END:VEVENT
END:VCALENDAR
