BEGIN:VCALENDAR
PRODID:brasil.gov.agenda
VERSION:1.0
BEGIN:VEVENT
DTSTART:20131022T130000Z
DTEND:20131022T130000Z
DCREATED:20131025T162913Z
UID:Compromisso-f6bc0a37a51a4f9cb9029c28ce58f246
SEQUENCE:0
LAST-MODIFIED:20170328T204512Z
SUMMARY:Sanção da Lei que institui o Programa Mais Médicos
LOCATION:Palácio do Planalto
PRIORITY:3
TRANSP:0
END:VEVENT
END:VCALENDAR
