BEGIN:VCALENDAR
PRODID:brasil.gov.agenda
VERSION:1.0
BEGIN:VEVENT
DTSTART:20131024T130000Z
DTEND:20131024T130000Z
DCREATED:20131025T152802Z
UID:Compromisso-7022ec5a00c54de5912153912ddd2263
SEQUENCE:0
LAST-MODIFIED:20170328T204513Z
SUMMARY:Cerimônia de anúncio do resultado da seleção de saneamento e pavimentação do PAC2
PRIORITY:3
TRANSP:0
END:VEVENT
END:VCALENDAR
