BEGIN:VCALENDAR
PRODID:brasil.gov.agenda
VERSION:1.0
BEGIN:VEVENT
DTSTART:20131024T110000Z
DTEND:20131024T110000Z
DCREATED:20131025T152707Z
UID:Compromisso-f2da00003b384bb98cffbb0cbbbe5a1e
SEQUENCE:0
LAST-MODIFIED:20170328T204513Z
SUMMARY:Entrevista à rádio Itatiaia\, de Belo Horizonte/MG
LOCATION:Palácio da Alvorada
PRIORITY:3
TRANSP:0
END:VEVENT
END:VCALENDAR
