BEGIN:VCALENDAR
PRODID:brasil.gov.agenda
VERSION:1.0
BEGIN:VEVENT
DTSTART:20131024T170000Z
DTEND:20131024T170000Z
DCREATED:20131025T152829Z
UID:Compromisso-91445c9b3df8454c9eafe5706ec9d7f8
SEQUENCE:0
LAST-MODIFIED:20170328T204513Z
SUMMARY:Miriam Belchior
PRIORITY:3
TRANSP:0
END:VEVENT
END:VCALENDAR
