BEGIN:VCALENDAR
PRODID:brasil.gov.agenda
VERSION:1.0
BEGIN:VEVENT
DTSTART:20131024T183000Z
DTEND:20131024T183000Z
DCREATED:20131025T152905Z
UID:Compromisso-b18df7b256a7497f9aafb35738db4fda
SEQUENCE:0
LAST-MODIFIED:20170328T204513Z
SUMMARY:Nelson Sirotsky
PRIORITY:3
TRANSP:0
END:VEVENT
END:VCALENDAR
