BEGIN:VCALENDAR
PRODID:brasil.gov.agenda
VERSION:1.0
BEGIN:VEVENT
DTSTART:20131024T123000Z
DTEND:20131024T123000Z
DCREATED:20131025T152739Z
UID:Compromisso-86513eefb8634c6f8a1d658b2cdc1492
SEQUENCE:0
LAST-MODIFIED:20170328T204513Z
SUMMARY:Ministro Joaquim Barbosa
LOCATION:Palácio do Planalto
PRIORITY:3
TRANSP:0
END:VEVENT
END:VCALENDAR
