BEGIN:VCALENDAR
PRODID:brasil.gov.agenda
VERSION:1.0
BEGIN:VEVENT
DTSTART:20131025T123000Z
DTEND:20131025T123000Z
DCREATED:20131025T153054Z
UID:Compromisso-2707ff75d59e45afa4ef65a349bf4428
SEQUENCE:0
LAST-MODIFIED:20170328T204514Z
SUMMARY:Cerimônia de anúncio de investimentos do PAC Mobilidade Urbana
LOCATION:Palácio dos Bandeirantes
PRIORITY:3
TRANSP:0
END:VEVENT
END:VCALENDAR
