BEGIN:VCALENDAR
PRODID:brasil.gov.agenda
VERSION:1.0
BEGIN:VEVENT
DTSTART:20131025T152000Z
DTEND:20131025T152000Z
DCREATED:20131025T153137Z
UID:Compromisso-73d7d586fe2845e092bdcbfa864d9693
SEQUENCE:0
LAST-MODIFIED:20170328T204514Z
SUMMARY:Chegada a Brasília/DF
LOCATION:Base Aérea de Brasília
PRIORITY:3
TRANSP:0
END:VEVENT
END:VCALENDAR
