BEGIN:VCALENDAR
PRODID:brasil.gov.agenda
VERSION:1.0
BEGIN:VEVENT
DTSTART:20131025T115000Z
DTEND:20131025T115000Z
DCREATED:20131025T153020Z
UID:Compromisso-addcba7745b64147b58cfeb79b36c175
SEQUENCE:0
LAST-MODIFIED:20170328T204513Z
SUMMARY:Chegada a São Paulo
LOCATION:Aeroporto de Congonhas
PRIORITY:3
TRANSP:0
END:VEVENT
END:VCALENDAR
