BEGIN:VCALENDAR
PRODID:brasil.gov.agenda
VERSION:1.0
BEGIN:VEVENT
DTSTART:20131025T140000Z
DTEND:20131025T140000Z
DCREATED:20131025T153117Z
UID:Compromisso-5cdc76e8d1c144208e409ee15ece849c
SEQUENCE:0
LAST-MODIFIED:20170328T204514Z
SUMMARY:Partida para Brasília
LOCATION:Aeroporto de Congonhas
PRIORITY:3
TRANSP:0
END:VEVENT
END:VCALENDAR
