BEGIN:VCALENDAR
PRODID:brasil.gov.agenda
VERSION:1.0
BEGIN:VEVENT
DTSTART:20131025T103000Z
DTEND:20131025T103000Z
DCREATED:20131025T152951Z
UID:Compromisso-ad2df43f75d64051a1344219ef624e91
SEQUENCE:0
LAST-MODIFIED:20170328T204513Z
SUMMARY:Partida para São Paulo/SP
LOCATION:Base Aérea de Brasília
PRIORITY:3
TRANSP:0
END:VEVENT
END:VCALENDAR
