BEGIN:VCALENDAR
PRODID:brasil.gov.agenda
VERSION:1.0
BEGIN:VEVENT
DTSTART:20131030T193000Z
DTEND:20131030T200000Z
DCREATED:20131114T195952Z
UID:Compromisso-597110585c6a433791c4acc7ebeb75ae
SEQUENCE:0
LAST-MODIFIED:20170328T204516Z
SUMMARY:Antônio Henrique Silveira
LOCATION:Palácio do Planalto
PRIORITY:3
TRANSP:0
END:VEVENT
END:VCALENDAR
