BEGIN:VCALENDAR
PRODID:brasil.gov.agenda
VERSION:1.0
BEGIN:VEVENT
DTSTART:20131030T130000Z
DTEND:20131030T140000Z
DCREATED:20131114T194904Z
UID:Compromisso-0412ee30cac144a2aa14ef63c4f72594
SEQUENCE:0
LAST-MODIFIED:20170328T204516Z
SUMMARY:Celebração dos 10 anos do Programa Bolsa Família
LOCATION:Museu da República
PRIORITY:3
TRANSP:0
END:VEVENT
END:VCALENDAR
