BEGIN:VCALENDAR
PRODID:brasil.gov.agenda
VERSION:1.0
BEGIN:VEVENT
DTSTART:20131030T110000Z
DTEND:20131030T120000Z
DCREATED:20131114T194534Z
UID:Compromisso-435248ea00b042dab2d0d51f4f18f716
SEQUENCE:0
LAST-MODIFIED:20170328T204515Z
SUMMARY:Entrevista a emissoras de rádio do Paraná
LOCATION:Palácio da Alvorada
PRIORITY:3
TRANSP:0
END:VEVENT
END:VCALENDAR
