BEGIN:VCALENDAR
PRODID:brasil.gov.agenda
VERSION:1.0
BEGIN:VEVENT
DTSTART:20131030T190000Z
DTEND:20131030T192000Z
DCREATED:20131114T195840Z
UID:Compromisso-b61f6cdcb5b64fab8debd9e41ca7e092
SEQUENCE:0
LAST-MODIFIED:20170328T204516Z
SUMMARY:Moreira Franco
LOCATION:Palácio do Planalto
PRIORITY:3
TRANSP:0
END:VEVENT
END:VCALENDAR
