BEGIN:VCALENDAR
PRODID:brasil.gov.agenda
VERSION:1.0
BEGIN:VEVENT
DTSTART:20131031T133000Z
DTEND:20131031T143000Z
DCREATED:20131114T200304Z
UID:Compromisso-2fd4b9dd48164e28a5dcc4af62ccaf84
SEQUENCE:0
LAST-MODIFIED:20170328T204516Z
SUMMARY:Cerimônia de entrega de credenciais
LOCATION:Palácio do Planalto
PRIORITY:3
TRANSP:0
END:VEVENT
END:VCALENDAR
