BEGIN:VCALENDAR
PRODID:brasil.gov.agenda
VERSION:1.0
BEGIN:VEVENT
DTSTART:20131031T113000Z
DTEND:20131031T120000Z
DCREATED:20131114T200203Z
UID:Compromisso-3da4bbc01b9e4dcfa1c3d8dd6da77b50
SEQUENCE:0
LAST-MODIFIED:20170328T204516Z
SUMMARY:Guido Mantega
LOCATION:Palácio do Planalto
PRIORITY:3
TRANSP:0
END:VEVENT
END:VCALENDAR
