BEGIN:VCALENDAR
PRODID:brasil.gov.agenda
VERSION:1.0
BEGIN:VEVENT
DTSTART:20131031T180000Z
DTEND:20131031T183000Z
DCREATED:20131114T200515Z
UID:Compromisso-2f78f29b1e4242aeb7a1d2d38bf1e746
SEQUENCE:0
LAST-MODIFIED:20170328T204516Z
SUMMARY:Ideli Salvatti
LOCATION:Palácio do Planalto
PRIORITY:3
TRANSP:0
END:VEVENT
END:VCALENDAR
