BEGIN:VCALENDAR
PRODID:brasil.gov.agenda
VERSION:1.0
BEGIN:VEVENT
DTSTART:20131031T170000Z
DTEND:20131031T173000Z
DCREATED:20131114T200411Z
UID:Compromisso-bb1bfbfd71d84777a332a3be62d1a7fc
SEQUENCE:0
LAST-MODIFIED:20170328T204516Z
SUMMARY:Raimundo Colombo
LOCATION:Palácio do Planalto
PRIORITY:3
TRANSP:0
END:VEVENT
END:VCALENDAR
