BEGIN:VCALENDAR
PRODID:brasil.gov.agenda
VERSION:1.0
BEGIN:VEVENT
DTSTART:20141202T133000Z
DTEND:20141202T121000Z
DCREATED:20141201T233259Z
UID:Compromisso-edad46bdd448470ead863503bfe984f6
SEQUENCE:0
LAST-MODIFIED:20170328T204807Z
SUMMARY:Guilherme Afif Domingos
LOCATION:Palácio da Alvorada
PRIORITY:3
TRANSP:0
END:VEVENT
END:VCALENDAR
