BEGIN:VCALENDAR
PRODID:brasil.gov.agenda
VERSION:1.0
BEGIN:VEVENT
DTSTART:20141203T155000Z
DTEND:20141203T160000Z
DCREATED:20141202T230625Z
UID:Compromisso-702addcb425b4c5a9b4c16b047b0c402
SEQUENCE:0
LAST-MODIFIED:20170328T204808Z
SUMMARY:Chegada a Brasília/DF
LOCATION:Base Aérea de Brasília
PRIORITY:3
TRANSP:0
END:VEVENT
END:VCALENDAR
