BEGIN:VCALENDAR
PRODID:brasil.gov.agenda
VERSION:1.0
BEGIN:VEVENT
DTSTART:20141203T112000Z
DTEND:20141203T113000Z
DCREATED:20141202T230220Z
UID:Compromisso-eca38f791259413ab5d7d9143190047a
SEQUENCE:0
LAST-MODIFIED:20170328T204807Z
SUMMARY:Chegada a São Paulo
LOCATION:Aeroporto de Congonhas
PRIORITY:3
TRANSP:0
END:VEVENT
END:VCALENDAR
