BEGIN:VCALENDAR
PRODID:brasil.gov.agenda
VERSION:1.0
BEGIN:VEVENT
DTSTART:20141203T183000Z
DTEND:20141203T184000Z
DCREATED:20141203T210931Z
UID:Compromisso-12deab10e95f409ebc72ce57cd2984f4
SEQUENCE:0
LAST-MODIFIED:20170328T204808Z
SUMMARY:Felipe Nasr
LOCATION:Palácio do Planalto
PRIORITY:3
TRANSP:0
END:VEVENT
END:VCALENDAR
