BEGIN:VCALENDAR
PRODID:brasil.gov.agenda
VERSION:1.0
BEGIN:VEVENT
DTSTART:20141203T190000Z
DTEND:20141203T191000Z
DCREATED:20141202T230735Z
UID:Compromisso-0874af009c8f4a6c9932f5b17c89fcd8
SEQUENCE:0
LAST-MODIFIED:20170328T204808Z
SUMMARY:João Roberto Marinho
LOCATION:Palácio do Planalto
PRIORITY:3
TRANSP:0
END:VEVENT
END:VCALENDAR
