BEGIN:VCALENDAR
PRODID:brasil.gov.agenda
VERSION:1.0
BEGIN:VEVENT
DTSTART:20141203T121500Z
DTEND:20141203T122500Z
DCREATED:20141202T230434Z
UID:Compromisso-a4dba5c748d04614889215b0b563f772
SEQUENCE:0
LAST-MODIFIED:20170328T204807Z
SUMMARY:Natal Solidário - Encontro com catadores de materiais recicláveis e população em situação de rua
LOCATION:Centro Exp. Anhembi\, Pav. Oeste\, Portão Principal 1\, Av. Olavo Fontoura\, 1200\, Santana
PRIORITY:3
TRANSP:0
END:VEVENT
END:VCALENDAR
