BEGIN:VCALENDAR
PRODID:brasil.gov.agenda
VERSION:1.0
BEGIN:VEVENT
DTSTART:20141203T143000Z
DTEND:20141203T144000Z
DCREATED:20141202T230535Z
UID:Compromisso-136ab3524d02457f874c3b826adfa748
SEQUENCE:0
LAST-MODIFIED:20170328T204808Z
SUMMARY:Partida para Brasília
LOCATION:Aeroporto de Congonhas
PRIORITY:3
TRANSP:0
END:VEVENT
END:VCALENDAR
