BEGIN:VCALENDAR
PRODID:brasil.gov.agenda
VERSION:1.0
BEGIN:VEVENT
DTSTART:20141203T100000Z
DTEND:20141203T101000Z
DCREATED:20141202T230112Z
UID:Compromisso-8543ff48fdd14643a22396c64cc10927
SEQUENCE:0
LAST-MODIFIED:20170328T204807Z
SUMMARY:Partida para São Paulo/SP
LOCATION:Base Aérea de Brasília
PRIORITY:3
TRANSP:0
END:VEVENT
END:VCALENDAR
