BEGIN:VCALENDAR
PRODID:brasil.gov.agenda
VERSION:1.0
BEGIN:VEVENT
DTSTART:20141204T140000Z
DTEND:20141204T020000Z
DCREATED:20141204T130926Z
UID:Compromisso-dcdef99d780346e5aac640950988b86b
SEQUENCE:0
LAST-MODIFIED:20170328T204808Z
SUMMARY:Aroldo Cedraz
LOCATION:Palácio do Planalto
PRIORITY:3
TRANSP:0
END:VEVENT
END:VCALENDAR
