BEGIN:VCALENDAR
PRODID:brasil.gov.agenda
VERSION:1.0
BEGIN:VEVENT
DTSTART:20141204T120000Z
DTEND:20141204T121000Z
DCREATED:20141203T232608Z
UID:Compromisso-b6a9a80a6356437686f28cc0689775c3
SEQUENCE:0
LAST-MODIFIED:20170328T204808Z
SUMMARY:Cerimônia de assinatura de contratos de infraestrutura urbana com o Governo de São Paulo
LOCATION:Palácio do Planalto
PRIORITY:3
TRANSP:0
END:VEVENT
END:VCALENDAR
