BEGIN:VCALENDAR
PRODID:brasil.gov.agenda
VERSION:1.0
BEGIN:VEVENT
DTSTART:20141204T190000Z
DTEND:20141204T021000Z
DCREATED:20141203T232852Z
UID:Compromisso-20d3105a494946f599005568f4b0c369
SEQUENCE:0
LAST-MODIFIED:20170328T204808Z
SUMMARY:Chegada a Quito/Equador
LOCATION:Aeroporto Internacional Mariscal Sucre
PRIORITY:3
TRANSP:0
END:VEVENT
END:VCALENDAR
