BEGIN:VCALENDAR
PRODID:brasil.gov.agenda
VERSION:1.0
BEGIN:VEVENT
DTSTART:20141204T170000Z
DTEND:20141204T201000Z
DCREATED:20141203T232746Z
UID:Compromisso-33f2c15fdd914a5ead8a2041c160ce7c
SEQUENCE:0
LAST-MODIFIED:20170328T204808Z
SUMMARY:Partida para Quito/Equador
LOCATION:Base Aérea de Brasília
PRIORITY:3
TRANSP:0
END:VEVENT
END:VCALENDAR
