BEGIN:VCALENDAR
PRODID:brasil.gov.agenda
VERSION:1.0
BEGIN:VEVENT
DTSTART:20141205T152000Z
DTEND:20141205T153000Z
DCREATED:20141204T231138Z
UID:Compromisso-c8346c986b2b45968405c4d930f55a43
SEQUENCE:0
LAST-MODIFIED:20170328T204810Z
SUMMARY:Apresentação artística e cultural
LOCATION:Sede da Unasul
PRIORITY:3
TRANSP:0
END:VEVENT
END:VCALENDAR
