BEGIN:VCALENDAR
PRODID:brasil.gov.agenda
VERSION:1.0
BEGIN:VEVENT
DTSTART:20141205T140000Z
DTEND:20141205T141000Z
DCREATED:20141204T231024Z
UID:Compromisso-6d09d6854d704427be25a1a14be2d09a
SEQUENCE:0
LAST-MODIFIED:20170328T204809Z
SUMMARY:Cerimônia oficial de inauguração da sede da Unasul
LOCATION:Esplanada Norte da sede da Unasul
PRIORITY:3
TRANSP:0
END:VEVENT
END:VCALENDAR
