BEGIN:VCALENDAR
PRODID:brasil.gov.agenda
VERSION:1.0
BEGIN:VEVENT
DTSTART:20141206T010000Z
DTEND:20141206T011000Z
DCREATED:20141204T231328Z
UID:Compromisso-0a997c9c83384aed962a4e8eb4c30a3b
SEQUENCE:0
LAST-MODIFIED:20170328T204810Z
SUMMARY:Chegada a Brasília/DF
LOCATION:Base Aérea de Brasília
PRIORITY:3
TRANSP:0
END:VEVENT
END:VCALENDAR
