BEGIN:VCALENDAR
PRODID:brasil.gov.agenda
VERSION:1.0
BEGIN:VEVENT
DTSTART:20141205T133000Z
DTEND:20141205T134000Z
DCREATED:20141204T230601Z
UID:Compromisso-b5a5b8c656104201b135e66c5206431b
SEQUENCE:0
LAST-MODIFIED:20170328T204809Z
SUMMARY:Corte da fita inaugural
LOCATION:Entrada do edifício da Unasul
PRIORITY:3
TRANSP:0
END:VEVENT
END:VCALENDAR
