BEGIN:VCALENDAR
PRODID:brasil.gov.agenda
VERSION:1.0
BEGIN:VEVENT
DTSTART:20141205T110000Z
DTEND:20141205T111000Z
DCREATED:20141204T230134Z
UID:Compromisso-d1abc33638c741dd96cafd6ce11bba0b
SEQUENCE:0
LAST-MODIFIED:20170328T204809Z
SUMMARY:Cúpula Extraordinária da União das Nações Sul-Americanas (Unasul)
LOCATION:Salão dos Presidentes - Sede da Unasul - Mitad del Mundo - Equador
PRIORITY:3
TRANSP:0
END:VEVENT
END:VCALENDAR
