BEGIN:VCALENDAR
PRODID:brasil.gov.agenda
VERSION:1.0
BEGIN:VEVENT
DTSTART:20141205T123500Z
DTEND:20141205T124500Z
DCREATED:20141204T230349Z
UID:Compromisso-8fead6a2a0cb426f9b7c259e2a28e208
SEQUENCE:0
LAST-MODIFIED:20170328T204809Z
SUMMARY:Encontro de Chefes de Estado e de Governo\, Ministros das Relações Exteriores\, representantes de organismos internacionais e personalidades especiais
LOCATION:Salão dos Presidentes - Sede da Unasul
PRIORITY:3
TRANSP:0
END:VEVENT
END:VCALENDAR
